BEGIN:VCALENDAR
VERSION:2.0
PRODID:-//Macintisch e. V. - ECPv6.15.20//NONSGML v1.0//EN
CALSCALE:GREGORIAN
METHOD:PUBLISH
X-ORIGINAL-URL:https://macintisch.de
X-WR-CALDESC:Veranstaltungen für Macintisch e. V.
REFRESH-INTERVAL;VALUE=DURATION:PT1H
X-Robots-Tag:noindex
X-PUBLISHED-TTL:PT1H
BEGIN:VTIMEZONE
TZID:Europe/Berlin
BEGIN:DAYLIGHT
TZOFFSETFROM:+0100
TZOFFSETTO:+0200
TZNAME:CEST
DTSTART:20180325T010000
END:DAYLIGHT
BEGIN:STANDARD
TZOFFSETFROM:+0200
TZOFFSETTO:+0100
TZNAME:CET
DTSTART:20181028T010000
END:STANDARD
BEGIN:DAYLIGHT
TZOFFSETFROM:+0100
TZOFFSETTO:+0200
TZNAME:CEST
DTSTART:20190331T010000
END:DAYLIGHT
BEGIN:STANDARD
TZOFFSETFROM:+0200
TZOFFSETTO:+0100
TZNAME:CET
DTSTART:20191027T010000
END:STANDARD
BEGIN:DAYLIGHT
TZOFFSETFROM:+0100
TZOFFSETTO:+0200
TZNAME:CEST
DTSTART:20200329T010000
END:DAYLIGHT
BEGIN:STANDARD
TZOFFSETFROM:+0200
TZOFFSETTO:+0100
TZNAME:CET
DTSTART:20201025T010000
END:STANDARD
END:VTIMEZONE
BEGIN:VEVENT
DTSTART;TZID=Europe/Berlin:20190213T170000
DTEND;TZID=Europe/Berlin:20190213T174500
DTSTAMP:20260423T005257
CREATED:20221231T094059Z
LAST-MODIFIED:20221231T094059Z
UID:1961-1550077200-1550079900@macintisch.de
SUMMARY:Alternative zu Photoshop & Co – Die Affinity Programme
DESCRIPTION:
URL:https://macintisch.de/veranstaltung/alternative-zu-photoshop-co-die-affinity-programme/
CATEGORIES:Macintalk
END:VEVENT
BEGIN:VEVENT
DTSTART;TZID=Europe/Berlin:20190213T180000
DTEND;TZID=Europe/Berlin:20190213T200000
DTSTAMP:20260423T005257
CREATED:20221231T094100Z
LAST-MODIFIED:20221231T094100Z
UID:1962-1550080800-1550088000@macintisch.de
SUMMARY:Stammtisch
DESCRIPTION:Der Macintisch e. V. ist eine offene Gruppe von Leuten\, die beruflich oder privat mit Macs und Apple-Produkten arbeiten und Spaß daran haben. Jeden zweiten Mittwoch im Monat treffen wir uns zum Stammtisch\, um uns auszutauschen\, gegenseitig Tipps zu geben oder bei Problemen zu helfen  und da ist jedermann willkommen. Bisher haben wir auch für fast alle Probleme Lösungen gefunden\, denn beim Stammtisch versammeln sich Grafiker\, Fotografen\, Musiker\, Office-Anwender und viele mehr.\nDer Stammtisch beginnt immer um 19:00 Uhr.
URL:https://macintisch.de/veranstaltung/stammtisch-7/
CATEGORIES:Macintisch
END:VEVENT
END:VCALENDAR