BEGIN:VCALENDAR
VERSION:2.0
PRODID:-//Macintisch e. V. - ECPv6.15.20//NONSGML v1.0//EN
CALSCALE:GREGORIAN
METHOD:PUBLISH
X-ORIGINAL-URL:https://macintisch.de
X-WR-CALDESC:Veranstaltungen für Macintisch e. V.
REFRESH-INTERVAL;VALUE=DURATION:PT1H
X-Robots-Tag:noindex
X-PUBLISHED-TTL:PT1H
BEGIN:VTIMEZONE
TZID:Europe/Berlin
BEGIN:DAYLIGHT
TZOFFSETFROM:+0100
TZOFFSETTO:+0200
TZNAME:CEST
DTSTART:20190331T010000
END:DAYLIGHT
BEGIN:STANDARD
TZOFFSETFROM:+0200
TZOFFSETTO:+0100
TZNAME:CET
DTSTART:20191027T010000
END:STANDARD
BEGIN:DAYLIGHT
TZOFFSETFROM:+0100
TZOFFSETTO:+0200
TZNAME:CEST
DTSTART:20200329T010000
END:DAYLIGHT
BEGIN:STANDARD
TZOFFSETFROM:+0200
TZOFFSETTO:+0100
TZNAME:CET
DTSTART:20201025T010000
END:STANDARD
BEGIN:DAYLIGHT
TZOFFSETFROM:+0100
TZOFFSETTO:+0200
TZNAME:CEST
DTSTART:20210328T010000
END:DAYLIGHT
BEGIN:STANDARD
TZOFFSETFROM:+0200
TZOFFSETTO:+0100
TZNAME:CET
DTSTART:20211031T010000
END:STANDARD
END:VTIMEZONE
BEGIN:VEVENT
DTSTART;TZID=Europe/Berlin:20200408T170000
DTEND;TZID=Europe/Berlin:20200408T174500
DTSTAMP:20260421T231008
CREATED:20221231T104052Z
LAST-MODIFIED:20221231T104052Z
UID:2006-1586365200-1586367900@macintisch.de
SUMMARY:Netzwerk\, WLAN\, Bluetooth\, AirPlay etc.
DESCRIPTION:Der Macintisch lädt Sie zu einem geplanten Zoom-Meeting ein.\nThema: Macintalk: Netzwerk\, WLAN\, Bluetooth\, AirPlay etc. \nUhrzeit: 23.Mär.2020 17:00 Uhr \nZoom-Meeting beitreten\nhttps://us04web.zoom.us/j/891791795?pwd=ZlJyM2RWbHluZy8wdDF1dmpDUzdidz09 \nMeeting-ID: 891 791 795\nPasswort: 006995
URL:https://macintisch.de/veranstaltung/netzwerk-wlan-bluetooth-airplay-etc-4/
CATEGORIES:Macintalk
END:VEVENT
BEGIN:VEVENT
DTSTART;TZID=Europe/Berlin:20200408T180000
DTEND;TZID=Europe/Berlin:20200408T200000
DTSTAMP:20260421T231008
CREATED:20221231T104053Z
LAST-MODIFIED:20221231T104053Z
UID:2007-1586368800-1586376000@macintisch.de
SUMMARY:Stammtisch
DESCRIPTION:Der Macintisch e. V. ist eine offene Gruppe von Leuten\, die beruflich oder privat mit Macs und Apple-Produkten arbeiten und Spaß daran haben. Zum Stammtisch treffen wir uns um uns miteinander auszutauschen\, gegenseitig Tipps zu geben oder bei Problemen zu helfen  und da ist jedermann willkommen. Bisher haben wir auch für alle Probleme Lösungen gefunden\, denn beim Stammtisch versammeln sich Grafiker\, Fotografen\, Musiker\, Office-Anwender und viele mehr.
URL:https://macintisch.de/veranstaltung/stammtisch-23/
CATEGORIES:Macintisch
END:VEVENT
END:VCALENDAR